BEGIN:VCALENDAR
VERSION:2.0
PRODID:-//Acme Widgets\, Inc.//NONSGML ExportToCalendar//EN
CALSCALE:GREGORIAN
METHOD:PUBLISH
X-WR-CALNAME:Groupmuses near 
X-WR-NAME:Groupmuses near 
BEGIN:VEVENT
DTSTAMP:20260420T155905Z
UID:810b985b-f12d-4f70-b4a5-622acf80f714
DTSTART:20260515T030000Z
DTEND:20260515T053000Z
DESCRIPTION:Hosted by Camerata P.\nMusicians: \n\nSpanning centuries and so
 und worlds\, **Camerata Pacifica** brings together an all-star ensemble fo
 r a program that moves from Classical clarity to contemporary edge — and
  back again with a twist.\n\nThe evening opens with **Ludwig van Beethoven
 **’s *Sonata in A Major\, Op. 2\, No. 2* (1795) — bright\, elegant\, a
 nd brimming with youthful invention\, offering a glimpse of the bold voice
  just beginning to emerge.\n\nFrom there\, the palette expands:\n**De Mey*
 * *Musique de Table*\, a kinetic and mesmerizing work where percussionists
  turn the table itself into an instrument — rhythmic\, theatrical\, and 
 unexpectedly playful.\n\nIn *Transcontinental*\, **Kenji Bunch** pairs vio
 lin with a percussion quartet\, creating a soundscape that feels both expa
 nsive and intimate — like a musical journey unfolding in real time.\n\nT
 he program culminates in a striking reimagining: **Dmitri Shostakovich**
 ’s *Symphony No. 15*\, arranged by **Viktor Derevyanko** for piano trio 
 and percussion. Familiar symphonic gestures are refracted into chamber for
 m — eerie\, ironic\, and full of ghostly echoes.\n\nFeaturing an extraor
 dinary lineup of musicians that promises precision\, imagination\, and she
 er sonic thrill.\n\n**Groupmuse Nights Out** gets you in the room for mome
 nts like this — boundary-pushing music\, performed at the highest level\
 , at a fraction of the cost. Come for Beethoven. Stay for the table percus
 sion\, the cross-country soundscape\, and the Shostakovich you didn’t kn
 ow you needed.
LOCATION:Zipper Hall
SUMMARY:Camerata Pacifica Presents: Beethoven & Shostakovich Reimagined
URL:https://www.groupmuse.com/events/16569-camerata-pacifica-presents-beeth
 oven-shostakovich-reimagined
END:VEVENT
END:VCALENDAR
